BEGIN:VCALENDAR
VERSION:2.0
PRODID:-//FRANK WALLACE - ECPv6.15.10//NONSGML v1.0//EN
CALSCALE:GREGORIAN
METHOD:PUBLISH
X-WR-CALNAME:FRANK WALLACE
X-ORIGINAL-URL:https://www.frankwallace.com
X-WR-CALDESC:Events for FRANK WALLACE
REFRESH-INTERVAL;VALUE=DURATION:PT1H
X-Robots-Tag:noindex
X-PUBLISHED-TTL:PT1H
BEGIN:VTIMEZONE
TZID:America/New_York
BEGIN:DAYLIGHT
TZOFFSETFROM:-0500
TZOFFSETTO:-0400
TZNAME:EDT
DTSTART:20150308T070000
END:DAYLIGHT
BEGIN:STANDARD
TZOFFSETFROM:-0400
TZOFFSETTO:-0500
TZNAME:EST
DTSTART:20151101T060000
END:STANDARD
BEGIN:DAYLIGHT
TZOFFSETFROM:-0500
TZOFFSETTO:-0400
TZNAME:EDT
DTSTART:20160313T070000
END:DAYLIGHT
BEGIN:STANDARD
TZOFFSETFROM:-0400
TZOFFSETTO:-0500
TZNAME:EST
DTSTART:20161106T060000
END:STANDARD
BEGIN:DAYLIGHT
TZOFFSETFROM:-0500
TZOFFSETTO:-0400
TZNAME:EDT
DTSTART:20170312T070000
END:DAYLIGHT
BEGIN:STANDARD
TZOFFSETFROM:-0400
TZOFFSETTO:-0500
TZNAME:EST
DTSTART:20171105T060000
END:STANDARD
BEGIN:DAYLIGHT
TZOFFSETFROM:-0500
TZOFFSETTO:-0400
TZNAME:EDT
DTSTART:20180311T070000
END:DAYLIGHT
BEGIN:STANDARD
TZOFFSETFROM:-0400
TZOFFSETTO:-0500
TZNAME:EST
DTSTART:20181104T060000
END:STANDARD
BEGIN:DAYLIGHT
TZOFFSETFROM:-0500
TZOFFSETTO:-0400
TZNAME:EDT
DTSTART:20190310T070000
END:DAYLIGHT
BEGIN:STANDARD
TZOFFSETFROM:-0400
TZOFFSETTO:-0500
TZNAME:EST
DTSTART:20191103T060000
END:STANDARD
END:VTIMEZONE
BEGIN:VTIMEZONE
TZID:Europe/London
BEGIN:DAYLIGHT
TZOFFSETFROM:+0000
TZOFFSETTO:+0100
TZNAME:BST
DTSTART:20160327T010000
END:DAYLIGHT
BEGIN:STANDARD
TZOFFSETFROM:+0100
TZOFFSETTO:+0000
TZNAME:GMT
DTSTART:20161030T010000
END:STANDARD
BEGIN:DAYLIGHT
TZOFFSETFROM:+0000
TZOFFSETTO:+0100
TZNAME:BST
DTSTART:20170326T010000
END:DAYLIGHT
BEGIN:STANDARD
TZOFFSETFROM:+0100
TZOFFSETTO:+0000
TZNAME:GMT
DTSTART:20171029T010000
END:STANDARD
BEGIN:DAYLIGHT
TZOFFSETFROM:+0000
TZOFFSETTO:+0100
TZNAME:BST
DTSTART:20180325T010000
END:DAYLIGHT
BEGIN:STANDARD
TZOFFSETFROM:+0100
TZOFFSETTO:+0000
TZNAME:GMT
DTSTART:20181028T010000
END:STANDARD
END:VTIMEZONE
BEGIN:VTIMEZONE
TZID:Europe/Berlin
BEGIN:DAYLIGHT
TZOFFSETFROM:+0100
TZOFFSETTO:+0200
TZNAME:CEST
DTSTART:20160327T010000
END:DAYLIGHT
BEGIN:STANDARD
TZOFFSETFROM:+0200
TZOFFSETTO:+0100
TZNAME:CET
DTSTART:20161030T010000
END:STANDARD
BEGIN:DAYLIGHT
TZOFFSETFROM:+0100
TZOFFSETTO:+0200
TZNAME:CEST
DTSTART:20170326T010000
END:DAYLIGHT
BEGIN:STANDARD
TZOFFSETFROM:+0200
TZOFFSETTO:+0100
TZNAME:CET
DTSTART:20171029T010000
END:STANDARD
BEGIN:DAYLIGHT
TZOFFSETFROM:+0100
TZOFFSETTO:+0200
TZNAME:CEST
DTSTART:20180325T010000
END:DAYLIGHT
BEGIN:STANDARD
TZOFFSETFROM:+0200
TZOFFSETTO:+0100
TZNAME:CET
DTSTART:20181028T010000
END:STANDARD
END:VTIMEZONE
BEGIN:VEVENT
DTSTART;VALUE=DATE:20181012
DTEND;VALUE=DATE:20181013
DTSTAMP:20260423T174517
CREATED:20180603T164420Z
LAST-MODIFIED:20180606T191005Z
UID:1877-1539302400-1539388799@www.frankwallace.com
SUMMARY:Olson/De Cari Duo play Wallace
DESCRIPTION:Olson/De Cari Duo on Song and Science\n“The most beautiful thing we can experience is the mysterious. It is the fundamental emotion that stands at the cradle of true art and true science.” — Albert Einstein \nThe Olson/De Cari Duo is actively creating new music for voice and guitar through their Science/Music Commissioning Project\, which seeks to illuminate the human side of science through song and celebrate the insights of a science-informed worldview. This concert is a CD release concert of the three song cycles commissioned by the Duo. \nScience/Music Commissioning Project\nThe Project’s first song cycle\, Abyss of the Stars: A Mass for Voice and Guitar\, was written by composer Terry Champlin. The second piece in the science/music project\, Scientiphilicity\, was written by harpsichordist\, organist and composer Thomas Donahue. And the Project’s third set of songs was composed by Frank Wallace. The six-movement song cycle\, entitled Men\, Women and Molecules\, sets poems by Roald Hoffmann\, a Nobel Prize-winning chemist at Cornell University. The poems explore life\, love\, and human relationships with insight and humor\, from the unique perspective of a scientist. \nProgram details\nOctober 12\, 2018\nScorca Hall at the National Opera Center\n330 Seventh Avenue\, New York\, NY\n\nProgram:\nEve’s Diary by David Leisner (New York premiere)\nMen\, Women and Molecules by Frank Wallace\nFive Songs of Antonio Carlos Jobim arranged by João Luiz (premiere)\nThis Moment: Six Songs from the Broadway Stage arranged by Clarice Assad (premiere)
URL:https://www.frankwallace.com/event/olson-de-cari-duo-play-wallace/
LOCATION:Scorca Hall at the National Opera Center\, 330 Seventh Avenue\, \, NY\, New York\, NY\, United States
CATEGORIES:Guitar and Voice
ATTACH;FMTTYPE=image/jpeg:https://www.frankwallace.com/wp-content/uploads/2018/06/OlsonDeCari-homepage.jpg
END:VEVENT
BEGIN:VEVENT
DTSTART;TZID=America/New_York:20180424T193000
DTEND;TZID=America/New_York:20180424T213000
DTSTAMP:20260423T174517
CREATED:20170831T115032Z
LAST-MODIFIED:20180404T191753Z
UID:1677-1524598200-1524605400@www.frankwallace.com
SUMMARY:NYC Classical Guitar Society
DESCRIPTION:Frank Wallace is joined once again by his long time partner in life and song\, mezzo-soprano Nancy Knowles\, in music by Wallace\, Mertz\, Sagreras and Villa-Lobos. \n\n\n\nIt is easy to feel an intimate connection to the ethereal beauty of Frank Wallace’s compositions not only because of their individual splendor\, but also because of the lush tone and sensitive perfection with which Wallace executes his music… — Stephen Griesgraber\, Guitar Review \n“Knowles’ exceptionally beautiful voice carried the evening in song and declaimed poetry.” (The Pittsburgh Post-Gazette)
URL:https://www.frankwallace.com/event/nyc-classical-guitar-society/
LOCATION:Diller-Quaile School of Music\, 24 East 95th Street\, New York City\, NY\, 10128\, United States
CATEGORIES:Guitar,Guitar and Voice
END:VEVENT
BEGIN:VEVENT
DTSTART;TZID=America/New_York:20180414T193000
DTEND;TZID=America/New_York:20180414T210000
DTSTAMP:20260423T174517
CREATED:20170923T225553Z
LAST-MODIFIED:20180404T192000Z
UID:1689-1523734200-1523739600@www.frankwallace.com
SUMMARY:Wallace and Knowles at Stone Arts
DESCRIPTION:Frank Wallace is joined once again by his long time partner in life and song\, mezzo-soprano Nancy Knowles\, in music by Wallace\, Mertz\, Sagreras and Villa-Lobos. \n\n\n\nIt is easy to feel an intimate connection to the ethereal beauty of Frank Wallace’s compositions not only because of their individual splendor\, but also because of the lush tone and sensitive perfection with which Wallace executes his music… — Stephen Griesgraber\, Guitar Review \n“Knowles’ exceptionally beautiful voice carried the evening in song and declaimed poetry.” (The Pittsburgh Post-Gazette) \n\n  \n 
URL:https://www.frankwallace.com/event/wallace-stone-arts/
LOCATION:Stone Church Arts: Immanuel Episcopal Church\, 12 Church St.\, Bellows Falls\, VT\, 05101\, United States
CATEGORIES:Guitar and Voice
END:VEVENT
BEGIN:VEVENT
DTSTART;TZID=America/New_York:20180407T160000
DTEND;TZID=America/New_York:20180407T180000
DTSTAMP:20260423T174517
CREATED:20170930T175639Z
LAST-MODIFIED:20180404T200136Z
UID:1698-1523116800-1523124000@www.frankwallace.com
SUMMARY:Wallace/Knowles at URI Guitar Fest
DESCRIPTION:URI Guitar Festival April 6-8\, 2018\n\n\n\n\n\nFrank Wallace is joined once again by his long time partner in life and song\, mezzo-soprano Nancy Knowles\, in music by Wallace\, Mertz\, Sagreras and Villa-Lobos at the 4:00pm concert on April 7 at the Pump House Music Worls\, 1464 Kingstown Rd\, South Kingstown\, RI 02879. Please visit https://www.uriguitarfestival.org/ for details and other concerts. \n\n\n\nIt is easy to feel an intimate connection to the ethereal beauty of Frank Wallace’s compositions not only because of their individual splendor\, but also because of the lush tone and sensitive perfection with which Wallace executes his music… — Stephen Griesgraber\, Guitar Review \n“Knowles’ exceptionally beautiful voice carried the evening in song and declaimed poetry.” (The Pittsburgh Post-Gazette) \n\nArtistic Director: Adam Levin \nCollaborators: Raffi Donoian and the Wheeler School
URL:https://www.frankwallace.com/event/wallace-uri-guitar-fest/
LOCATION:Pump House Music Works\, 1464 Kingstown Rd.\, South Kingstown\, RI\, 02879\, United States
CATEGORIES:Ensemble,Guitar,Guitar and Voice
END:VEVENT
BEGIN:VEVENT
DTSTART;TZID=America/New_York:20171117T193000
DTEND;TZID=America/New_York:20171117T210000
DTSTAMP:20260423T174517
CREATED:20170901T194557Z
LAST-MODIFIED:20170910T152934Z
UID:1681-1510947000-1510952400@www.frankwallace.com
SUMMARY:House Concert in Spofford NH
DESCRIPTION:Frank previews his coming program for Arizona State University and Hatbox Theater of 16th century music for vihuela de mano and voice as well as music written by Frank inspired by 16th century and earlier music. Write wallacecomposer[at]gmail.com for information.
URL:https://www.frankwallace.com/event/house-concert-spofford-nh/
LOCATION:NY
CATEGORIES:Guitar,Guitar and Voice
END:VEVENT
BEGIN:VEVENT
DTSTART;TZID=Europe/London:20170506T193000
DTEND;TZID=Europe/London:20170506T210000
DTSTAMP:20260423T174517
CREATED:20161209T185214Z
LAST-MODIFIED:20170516T134412Z
UID:1403-1494099000-1494104400@www.frankwallace.com
SUMMARY:Valérie Hartzell and Frank Wallace in Norwich
DESCRIPTION:Tickets are £12 General/£10 Concession & Federation of Guitar Society Members/Free for students aged 13 & under American guitarist and composer\, Frank Wallace joins American guitarist\, living in England\, Valérie Hartzell. Tea/coffee/cocoa available for purchase (comes w/free biscuit). Hartzell will perform solos by Ponce\, Ibbotson\, Houghton\, Dumigan\, Dyens\, and will be joined by Wallace on his own composition. Wallace will perform voice and guitar pieces by Mertz\, Schubert\, Schumann\, Bernstein\, Wallace on the 2nd half. Wallace and Hartzell will have CDs available for purchase. Car parking is available at the rear & side of the Hall. Entry & exit to the car park is via a one way system & entry is through the driveway to the left of the Hall only. Hailed as “one of our age’s truly important composers”\, Frank Wallace is a rare artist whose wizardry on the guitar rivals the range and depth of his musical ideas in composition. Fanfare Magazine dubs him a composer with “an authentic expressive voice [and a] high standard of musical interest” who plays with “flawless technical proficiency”. Great passion and a sense of humor infuse both his compositions and his performing. The American Record Guide calls Wallace’s music for classical guitar “exciting\, unpredictable\, and fresh”. American guitarist living in England\, Valérie Hartzell has performed on radio\, television\, in over 30 festivals\, both in the United States\, Canada\, and Europe\, and is an international competition prize-winner in 8 competitions. As a solo artist she has performed for numerous performance arts societies and universities. Fanfare Magazine says “…[she] proves herself to be a master at creating moods…” and English radio personality Iain Lee says of her playing\, “you are properly brilliant…you’re amazing\, I would suggest.”
URL:https://www.frankwallace.com/event/concert/
LOCATION:St Andrew’s Church\, 41 Church Lane\, Norwich\, NR4 6NW
CATEGORIES:Guitar,Guitar and Voice
ORGANIZER;CN="Valerie Hartzell / UK":MAILTO:valeriehartzell@gmail.com
END:VEVENT
BEGIN:VEVENT
DTSTART;TZID=Europe/Berlin:20170423T170000
DTEND;TZID=Europe/Berlin:20170423T190000
DTSTAMP:20260423T174517
CREATED:20161209T195843Z
LAST-MODIFIED:20170414T201043Z
UID:1407-1492966800-1492974000@www.frankwallace.com
SUMMARY:Vihuela and Guitar in Basel at Jêle Café
DESCRIPTION:Frank presents a set of 16th Spanish song and solo for vihuela de mano and performs solos and songs by Mertz\, Wallace\, Mompou and Bernstein.
URL:https://www.frankwallace.com/event/concert-basel/
LOCATION:Jêle Café\, Mülhauser Strasse\, Basel\, 129 CH-4056
CATEGORIES:Guitar,Guitar and Voice
END:VEVENT
BEGIN:VEVENT
DTSTART;TZID=America/New_York:20160917T190000
DTEND;TZID=America/New_York:20160917T210000
DTSTAMP:20260423T174517
CREATED:20160829T002930Z
LAST-MODIFIED:20170227T215832Z
UID:1330-1474138800-1474146000@www.frankwallace.com
SUMMARY:Of Love and Soul | Knight Chapel
DESCRIPTION:Music for and by Fathers and Sons \nFrank Wallace’s concert “Of Love & Soul” indeed provides an “intimate connection” to the composer’s personal life with songs on poems by: his grandfather\, about childhood and the wisdom of his own father in the 1890’s; solos inspired by the birth of his first son and the passing and passions of his father; and the videography of his second son; songs about place\, aging\, and fatherhood.
URL:https://www.frankwallace.com/event/love-soul-knight-chapel/
LOCATION:Knight Chapel\, Woodland Cemetery\, Keene\, 03431\, United States
CATEGORIES:Guitar,Guitar and Voice
END:VEVENT
BEGIN:VEVENT
DTSTART;TZID=America/New_York:20160916T200000
DTEND;TZID=America/New_York:20160916T200000
DTSTAMP:20260423T174517
CREATED:20160617T000000Z
LAST-MODIFIED:20160617T192537Z
UID:1223-1474056000-1474056000@www.frankwallace.com
SUMMARY:Of Love and Soul | Amoskeag Studio
DESCRIPTION:Music for and by Fathers and Sons \nFrank Wallace’s concert “Of Love & Soul” indeed provides an “intimate connection” to the composer’s personal life with songs on poems by: his grandfather\, about childhood and the wisdom of his own father in the 1890’s; solos inspired by the birth of his first son and the passing and passions of his father; and the videography of his second son; songs about place\, aging\, and fatherhood.
URL:https://www.frankwallace.com/event/love-soul-amoskeag-studio/
LOCATION:Amoskeag Studio\, 250 Commercial Street\, Suite 2007 (South Entrance) \, Manchester\, NH\, 03101\, United States
CATEGORIES:Guitar,Guitar and Voice
ATTACH;FMTTYPE=image/jpeg:https://www.frankwallace.com/wp-content/uploads/2015/10/Frank-Wallace-composer360x3601-1.jpg
END:VEVENT
BEGIN:VEVENT
DTSTART;TZID=America/New_York:20160619T140000
DTEND;TZID=America/New_York:20160619T150000
DTSTAMP:20260423T174517
CREATED:20160617T180000Z
LAST-MODIFIED:20170830T151721Z
UID:1234-1466344800-1466348400@www.frankwallace.com
SUMMARY:Father's Day Concert: Of Love and Soul | Hatbox Theater
DESCRIPTION:Music for and by Fathers and Sons | Frank Wallace’s concert “Of Love & Soul” indeed provides an “intimate connection” to the composer’s personal life with songs on poems by: his grandfather\, about childhood and the wisdom of his own father in the 1890’s; solos inspired by the birth of his first son and the passing and passions of his father; and the videography of his second son; songs about place\, aging\, and fatherhood. \nTickets:\navailable online or at the door\n$16.50 general admission\n$13.50 members\, students\, seniors \nHatbox Theater is located in the Steeplegate Mall; use the South Entrance.
URL:https://www.frankwallace.com/event/fathers-day-concert-love-soul/
LOCATION:Hatbox Theater\, Steeplegate Mall\, 270 Loudon Rd\, Concord\, NH\, 03301\, United States
CATEGORIES:Guitar,Guitar and Voice
ATTACH;FMTTYPE=image/jpeg:https://www.frankwallace.com/wp-content/uploads/2015/10/Frank-Wallace-composer360x3601-1.jpg
END:VEVENT
BEGIN:VEVENT
DTSTART;TZID=America/New_York:20160618T193000
DTEND;TZID=America/New_York:20160618T193000
DTSTAMP:20260423T174517
CREATED:20160616T233000Z
LAST-MODIFIED:20160617T192513Z
UID:1221-1466278200-1466278200@www.frankwallace.com
SUMMARY:Of Love and Soul | Stone Church Arts
DESCRIPTION:Of Love & Soul\nMusic for and by Fathers and Sons \nFrank Wallace’s concert “Of Love & Soul” indeed provides an “intimate connection” to the composer’s personal life with songs on poems by: his grandfather\, about childhood and the wisdom of his own father in the 1890’s; solos inspired by the birth of his first son and the passing and passions of his father; and the videography of his second son; songs about place\, aging\, and fatherhood. \nAdvance General Admission ticket – $17.00 (USD)\nAdvance Senior & Student/Child ticket – $13.00 (USD)\nCorporate Sponsors Only ticket – $5.00 (USD)\nMembers Only ticket – $10.00 (USD)\nPremium tickets – $35.00 (USD) \nUp front\, reserved\, and comfortable seats. Support local music!
URL:https://www.frankwallace.com/event/frank-wallace-stone-church-arts/
LOCATION:Stone Church Arts: Immanuel Episcopal Church\, 12 Church St.\, Bellows Falls\, VT\, 05101\, United States
CATEGORIES:Guitar,Guitar and Voice
ATTACH;FMTTYPE=image/jpeg:https://www.frankwallace.com/wp-content/uploads/2015/10/Frank-Wallace-composer360x3601-1.jpg
END:VEVENT
END:VCALENDAR