BEGIN:VCALENDAR
VERSION:2.0
PRODID:-//FRANK WALLACE - ECPv6.15.10//NONSGML v1.0//EN
CALSCALE:GREGORIAN
METHOD:PUBLISH
X-ORIGINAL-URL:https://www.frankwallace.com
X-WR-CALDESC:Events for FRANK WALLACE
REFRESH-INTERVAL;VALUE=DURATION:PT1H
X-Robots-Tag:noindex
X-PUBLISHED-TTL:PT1H
BEGIN:VTIMEZONE
TZID:America/New_York
BEGIN:DAYLIGHT
TZOFFSETFROM:-0500
TZOFFSETTO:-0400
TZNAME:EDT
DTSTART:20150308T070000
END:DAYLIGHT
BEGIN:STANDARD
TZOFFSETFROM:-0400
TZOFFSETTO:-0500
TZNAME:EST
DTSTART:20151101T060000
END:STANDARD
BEGIN:DAYLIGHT
TZOFFSETFROM:-0500
TZOFFSETTO:-0400
TZNAME:EDT
DTSTART:20160313T070000
END:DAYLIGHT
BEGIN:STANDARD
TZOFFSETFROM:-0400
TZOFFSETTO:-0500
TZNAME:EST
DTSTART:20161106T060000
END:STANDARD
BEGIN:DAYLIGHT
TZOFFSETFROM:-0500
TZOFFSETTO:-0400
TZNAME:EDT
DTSTART:20170312T070000
END:DAYLIGHT
BEGIN:STANDARD
TZOFFSETFROM:-0400
TZOFFSETTO:-0500
TZNAME:EST
DTSTART:20171105T060000
END:STANDARD
END:VTIMEZONE
BEGIN:VEVENT
DTSTART;TZID=America/New_York:20161110T200000
DTEND;TZID=America/New_York:20161110T210000
DTSTAMP:20260423T190250
CREATED:20161102T212037Z
LAST-MODIFIED:20161103T173351Z
UID:1385-1478808000-1478811600@www.frankwallace.com
SUMMARY:Three Spanish Guitars concert
DESCRIPTION:Three Spanish Guitars performed by Frank Wallace\nis a vibrant and sensual experience of rare guitars in the hands of a master; with music of Sor\, Aguado\, Tárrega\, de Falla\, Turina\, Mompou and Wallace. \nIt is extraordinary to hear a powerful and refined performer playing on exceptional historical instruments he knows intimately. Frank Wallace\, a prolific composer of solos\, chamber music and song\, here shows that “…he can match the musicality of any player out there…virtuosic but always in a musically convincing way.” [This is Classical Guitar]. Three exquisite historical guitars from Wallace’s personal collection are featured in music appropriate for each: Sor\, Aguado\, Tárrega\, de Falla\, Turina and Mompou. Wallace has played these instruments by Manuel Gutierrez\, Sevilla\, 1854; Manuel Ramirez\, Madrid\, c. 1910; and Ignacio Fleta\, Barcelona\, 1964 for over 20 years on his most popular recordings on the Gyre label. Known for his “elegant virtuosity” (Classics Today)\, Frank Wallace tours internationally as a soloist and with mezzo-soprano Nancy Knowles and records for Gyre.
URL:https://www.frankwallace.com/event/spanish-guitars-concert/
LOCATION:Loyola University\, 4501 N. Charles Street\, Baltimore\, MD\, 21210\, United States
CATEGORIES:Guitar
ATTACH;FMTTYPE=image/jpeg:https://www.frankwallace.com/wp-content/uploads/2015/10/tsg.jpg
ORGANIZER;CN="Loyola University":MAILTO:ronald.pearl115@gmail.com
END:VEVENT
BEGIN:VEVENT
DTSTART;TZID=America/New_York:20161109T200000
DTEND;TZID=America/New_York:20161109T213000
DTSTAMP:20260423T190250
CREATED:20160613T180948Z
LAST-MODIFIED:20161108T191055Z
UID:1256-1478721600-1478727000@www.frankwallace.com
SUMMARY:Three Spanish Guitars | An die Musik LIVE!
DESCRIPTION:Three Spanish Guitars performed by Frank Wallace\nis a vibrant and sensual experience of rare guitars in the hands of a master\, with music of Sor\, Aguado\, Tárrega\, de Falla\, Turina\, Mompou and Wallace. \nIt is extraordinary to hear a powerful and refined performer playing on exceptional historical instruments he knows intimately. Frank Wallace\, a prolific composer of solos\, chamber music and song\, here shows that “…he can match the musicality of any player out there…virtuosic but always in a musically convincing way.” [This is Classical Guitar]. Three exquisite historical guitars from Wallace’s personal collection are featured in music appropriate for each: Sor\, Aguado\, Tárrega\, de Falla\, Turina and Mompou. Wallace has played these instruments by Manuel Gutierrez\, Sevilla\, 1854; Manuel Ramirez\, Madrid\, c. 1910; and Ignacio Fleta\, Barcelona\, 1964 for over 20 years on his most popular recordings on the Gyre label. Known for his “elegant virtuosity” (Classics Today)\, Frank Wallace tours internationally as a soloist and with mezzo-soprano Nancy Knowles and records for Gyre.
URL:https://www.frankwallace.com/event/spanish-guitars-die-musik/
LOCATION:An die Musik LIVE!\, 409 North Charles Street Second Floor\, Baltimore\, MD\, 21201\, United States
CATEGORIES:Guitar
ATTACH;FMTTYPE=image/jpeg:https://www.frankwallace.com/wp-content/uploads/2016/01/IMG_20151102_192234-e1459365441780.jpg
END:VEVENT
BEGIN:VEVENT
DTSTART;TZID=America/New_York:20161106T150000
DTEND;TZID=America/New_York:20161106T163000
DTSTAMP:20260423T190250
CREATED:20160613T175527Z
LAST-MODIFIED:20160613T181703Z
UID:1254-1478444400-1478449800@www.frankwallace.com
SUMMARY:Three Spanish Guitars | Philadelphia Classical Guitar Society
DESCRIPTION:Three Spanish Guitars performed by Frank Wallace\nis a vibrant and sensual experience of rare guitars in the hands of a master; with music of Sor\, Aguado\, Tárrega\, de Falla\, Turina\, Mompou and Wallace. \nIt is extraordinary to hear a powerful and refined performer playing on exceptional historical instruments he knows intimately. Frank Wallace\, a prolific composer of solos\, chamber music and song\, here shows that “…he can match the musicality of any player out there…virtuosic but always in a musically convincing way.” [This is Classical Guitar]. Three exquisite historical guitars from Wallace’s personal collection are featured in music appropriate for each: Sor\, Aguado\, Tárrega\, de Falla\, Turina and Mompou. Wallace has played these instruments by Manuel Gutierrez\, Sevilla\, 1854; Manuel Ramirez\, Madrid\, c. 1910; and Ignacio Fleta\, Barcelona\, 1964 for over 20 years on his most popular recordings on the Gyre label. Known for his “elegant virtuosity” (Classics Today)\, Frank Wallace tours internationally as a soloist and with mezzo-soprano Nancy Knowles and records for Gyre.
URL:https://www.frankwallace.com/event/spanish-guitars-philadelphia-classical-guitar-society/
LOCATION:Settlement Music School\, 416 Queen St\, Philadelphia\, PA\, 19147\, United States
CATEGORIES:Guitar
ATTACH;FMTTYPE=image/jpeg:https://www.frankwallace.com/wp-content/uploads/2016/01/IMG_20151102_192234-e1459365441780.jpg
END:VEVENT
BEGIN:VEVENT
DTSTART;TZID=America/New_York:20160917T190000
DTEND;TZID=America/New_York:20160917T210000
DTSTAMP:20260423T190250
CREATED:20160829T002930Z
LAST-MODIFIED:20170227T215832Z
UID:1330-1474138800-1474146000@www.frankwallace.com
SUMMARY:Of Love and Soul | Knight Chapel
DESCRIPTION:Music for and by Fathers and Sons \nFrank Wallace’s concert “Of Love & Soul” indeed provides an “intimate connection” to the composer’s personal life with songs on poems by: his grandfather\, about childhood and the wisdom of his own father in the 1890’s; solos inspired by the birth of his first son and the passing and passions of his father; and the videography of his second son; songs about place\, aging\, and fatherhood.
URL:https://www.frankwallace.com/event/love-soul-knight-chapel/
LOCATION:Knight Chapel\, Woodland Cemetery\, Keene\, 03431\, United States
CATEGORIES:Guitar,Guitar and Voice
END:VEVENT
BEGIN:VEVENT
DTSTART;TZID=America/New_York:20160916T200000
DTEND;TZID=America/New_York:20160916T200000
DTSTAMP:20260423T190250
CREATED:20160617T000000Z
LAST-MODIFIED:20160617T192537Z
UID:1223-1474056000-1474056000@www.frankwallace.com
SUMMARY:Of Love and Soul | Amoskeag Studio
DESCRIPTION:Music for and by Fathers and Sons \nFrank Wallace’s concert “Of Love & Soul” indeed provides an “intimate connection” to the composer’s personal life with songs on poems by: his grandfather\, about childhood and the wisdom of his own father in the 1890’s; solos inspired by the birth of his first son and the passing and passions of his father; and the videography of his second son; songs about place\, aging\, and fatherhood.
URL:https://www.frankwallace.com/event/love-soul-amoskeag-studio/
LOCATION:Amoskeag Studio\, 250 Commercial Street\, Suite 2007 (South Entrance) \, Manchester\, NH\, 03101\, United States
CATEGORIES:Guitar,Guitar and Voice
ATTACH;FMTTYPE=image/jpeg:https://www.frankwallace.com/wp-content/uploads/2015/10/Frank-Wallace-composer360x3601-1.jpg
END:VEVENT
BEGIN:VEVENT
DTSTART;TZID=America/New_York:20160619T140000
DTEND;TZID=America/New_York:20160619T150000
DTSTAMP:20260423T190250
CREATED:20160617T180000Z
LAST-MODIFIED:20170830T151721Z
UID:1234-1466344800-1466348400@www.frankwallace.com
SUMMARY:Father's Day Concert: Of Love and Soul | Hatbox Theater
DESCRIPTION:Music for and by Fathers and Sons | Frank Wallace’s concert “Of Love & Soul” indeed provides an “intimate connection” to the composer’s personal life with songs on poems by: his grandfather\, about childhood and the wisdom of his own father in the 1890’s; solos inspired by the birth of his first son and the passing and passions of his father; and the videography of his second son; songs about place\, aging\, and fatherhood. \nTickets:\navailable online or at the door\n$16.50 general admission\n$13.50 members\, students\, seniors \nHatbox Theater is located in the Steeplegate Mall; use the South Entrance.
URL:https://www.frankwallace.com/event/fathers-day-concert-love-soul/
LOCATION:Hatbox Theater\, Steeplegate Mall\, 270 Loudon Rd\, Concord\, NH\, 03301\, United States
CATEGORIES:Guitar,Guitar and Voice
ATTACH;FMTTYPE=image/jpeg:https://www.frankwallace.com/wp-content/uploads/2015/10/Frank-Wallace-composer360x3601-1.jpg
END:VEVENT
BEGIN:VEVENT
DTSTART;TZID=America/New_York:20160618T193000
DTEND;TZID=America/New_York:20160618T193000
DTSTAMP:20260423T190250
CREATED:20160616T233000Z
LAST-MODIFIED:20160617T192513Z
UID:1221-1466278200-1466278200@www.frankwallace.com
SUMMARY:Of Love and Soul | Stone Church Arts
DESCRIPTION:Of Love & Soul\nMusic for and by Fathers and Sons \nFrank Wallace’s concert “Of Love & Soul” indeed provides an “intimate connection” to the composer’s personal life with songs on poems by: his grandfather\, about childhood and the wisdom of his own father in the 1890’s; solos inspired by the birth of his first son and the passing and passions of his father; and the videography of his second son; songs about place\, aging\, and fatherhood. \nAdvance General Admission ticket – $17.00 (USD)\nAdvance Senior & Student/Child ticket – $13.00 (USD)\nCorporate Sponsors Only ticket – $5.00 (USD)\nMembers Only ticket – $10.00 (USD)\nPremium tickets – $35.00 (USD) \nUp front\, reserved\, and comfortable seats. Support local music!
URL:https://www.frankwallace.com/event/frank-wallace-stone-church-arts/
LOCATION:Stone Church Arts: Immanuel Episcopal Church\, 12 Church St.\, Bellows Falls\, VT\, 05101\, United States
CATEGORIES:Guitar,Guitar and Voice
ATTACH;FMTTYPE=image/jpeg:https://www.frankwallace.com/wp-content/uploads/2015/10/Frank-Wallace-composer360x3601-1.jpg
END:VEVENT
BEGIN:VEVENT
DTSTART;TZID=America/New_York:20160417T093000
DTEND;TZID=America/New_York:20160417T113000
DTSTAMP:20260423T190250
CREATED:20160330T193044Z
LAST-MODIFIED:20160330T194546Z
UID:1220-1460885400-1460892600@www.frankwallace.com
SUMMARY:Frank Wallace Workshop: "The Singing Guitar"
DESCRIPTION:“The Singing Guitar: How To Play Beautiful Vocal Lines on the Guitar” \nIs your guitar a mini-orchestra as Andre Segovia described it? Or a small chamber choir or solo singer\, violin virtuoso or blown woodwind? What is it? How do you approach the playing of melodic lines? This workshop will discuss the techniques involved in making your guitar sing like a singer. What is vibrato? What is legato? What is portamento? What is the best fingering to achieve your goal? How do timbre and attack effect your vocal line? \nFrank Wallace is uniquely qualified to teach this workshop. He began his career as a guitar major at the San Francisco Conservatory of Music where he also sang with the Cantata Singers\, a semi-professional group led by one of Frank’s first mentors\, Jon Bailey. Upon graduation\, he moved to Boston and immediately joined Marleen Montgomery’s Quadrivium\, a mixed ensemble of early music instrumentalists and singers. \nRegistration is required for participants — all skill levels can participate!\n Tickets are $25 for workshop participants; $12 for observing audience.
URL:https://www.frankwallace.com/event/frank-wallace-workshop-the-singing-guitar/
LOCATION:Eric Carle Museum of Picture Book Art\, 125 West Bay Rd\, Amherst\, MA\, 01002\, United States
CATEGORIES:Guitar,Workshop
ATTACH;FMTTYPE=image/jpeg:https://www.frankwallace.com/wp-content/uploads/2013/09/inquire-frankwallace3-e1580590974545.jpg
END:VEVENT
BEGIN:VEVENT
DTSTART;TZID=America/New_York:20160416T193000
DTEND;TZID=America/New_York:20160416T213000
DTSTAMP:20260423T190250
CREATED:20160330T191304Z
LAST-MODIFIED:20160330T194441Z
UID:1217-1460835000-1460842200@www.frankwallace.com
SUMMARY:Three Spanish Guitars for Guitarra Series\, Eric Carle Museum
DESCRIPTION:Three Spanish Guitars performed by Frank Wallace\nPresented by the Fine Arts Center at UMass Amherst.  \nThree Spanish Guitars is a vibrant and sensual experience of rare guitars in the hands of a master; with music of Sor\, Aguado\, Tárrega\, de Falla\, Turina\, Mompou and Wallace \nRead more about the program here
URL:https://www.frankwallace.com/event/frank-wallace-guitarra-series-eric-carle-museum/
LOCATION:Eric Carle Museum of Picture Book Art\, 125 West Bay Rd\, Amherst\, MA\, 01002\, United States
CATEGORIES:Guitar
ATTACH;FMTTYPE=image/jpeg:https://www.frankwallace.com/wp-content/uploads/2016/01/IMG_20151102_192234-e1459365441780.jpg
END:VEVENT
BEGIN:VEVENT
DTSTART;TZID=America/New_York:20160415T200000
DTEND;TZID=America/New_York:20160415T200000
DTSTAMP:20260423T190250
CREATED:20160330T175749Z
LAST-MODIFIED:20160330T194441Z
UID:1213-1460750400-1460750400@www.frankwallace.com
SUMMARY:Three Spanish Guitars at Third Life Studio
DESCRIPTION:Three Spanish Guitars performed by Frank Wallace\na vibrant and sensual experience of rare guitars in the hands of a master; with music of Sor\, Aguado\, Tárrega\, de Falla\, Turina\, Mompou and Wallace \nTickets available online \nIt is extraordinary to hear a powerful and refined performer playing on exceptional historical instruments he knows intimately. Frank Wallace\, a prolific composer of solos\, chamber music and song\, here shows that “…he can match the musicality of any player out there…virtuosic but always in a musically convincing way.” [This is Classical Guitar]. Three exquisite historical guitars from Wallace’s personal collection are featured in music appropriate for each: Sor\, Aguado\, Tárrega\, de Falla\, Turina and Mompou. Wallace has played these instruments by Manuel Gutierrez\, Sevilla\, 1854; Manuel Ramirez\, Madrid\, c. 1910; and Ignacio Fleta\, Barcelona\, 1964 for over 20 years on his most popular recordings on the Gyre label. Known for his “elegant virtuosity” (Classics Today)\, Frank Wallace tours internationally as a soloist and with mezzo-soprano Nancy Knowles and records for Gyre.
URL:https://www.frankwallace.com/event/frank-wallace-life-studio/
LOCATION:Third Life Studio for the Performing and Healing Arts\, 33 Union Square\, Somerville\, MA\, 02143\, United States
CATEGORIES:Guitar
ATTACH;FMTTYPE=image/jpeg:https://www.frankwallace.com/wp-content/uploads/2016/01/IMG_20151102_192234-e1459365441780.jpg
END:VEVENT
BEGIN:VEVENT
DTSTART;TZID=America/New_York:20160413T190000
DTEND;TZID=America/New_York:20160413T210000
DTSTAMP:20260423T190250
CREATED:20160330T161030Z
LAST-MODIFIED:20160330T194441Z
UID:1210-1460574000-1460581200@www.frankwallace.com
SUMMARY:Three Spanish Guitars at Acoustic Artisans
DESCRIPTION:Three Spanish Guitars performed by Frank Wallace\na vibrant and sensual experience of rare guitars in the hands of a master; with music of Sor\, Aguado\, Tárrega\, de Falla\, Turina\, Mompou and Wallace; special appearance by local luthier Toby Rzepka’s 2015 guitar. \nIt is extraordinary to hear a powerful and refined performer playing on exceptional historical instruments he knows intimately. Frank Wallace\, a prolific composer of solos\, chamber music and song\, here shows that “…he can match the musicality of any player out there…virtuosic but always in a musically convincing way.” [This is Classical Guitar]. Three exquisite historical guitars from Wallace’s personal collection are featured in music appropriate for each: Sor\, Aguado\, Tárrega\, de Falla\, Turina and Mompou. Wallace has played these instruments by Manuel Gutierrez\, Sevilla\, 1854; Manuel Ramirez\, Madrid\, c. 1910; and Ignacio Fleta\, Barcelona\, 1964 for over 20 years on his most popular recordings on the Gyre label. Known for his “elegant virtuosity” (Classics Today)\, Frank Wallace tours internationally as a soloist and with mezzo-soprano Nancy Knowles and records for Gyre.
URL:https://www.frankwallace.com/event/frank-wallace-acoustic-artisans/
LOCATION:Acoustic Artisans\,  594 Congress St\, Portland\, ME\, 04101\, United States
CATEGORIES:Guitar
ATTACH;FMTTYPE=image/jpeg:https://www.frankwallace.com/wp-content/uploads/2016/01/IMG_20151102_192234-e1459365441780.jpg
END:VEVENT
END:VCALENDAR